BEGIN:VCALENDAR
VERSION:2.0
PRODID:-//ERT//LNF26//DE
VERSION:2.0
BEGIN:VEVENT
UID:station_6601_20260324T160000Z
DTSTAMP:20260420T070300Z
URL:https://ert.langenachtderforschung.at/station/6601
DTSTART:20260324T160000Z
DTEND:20260424T210000Z
SUMMARY:[LNF26] Code, Build, Robots: Wie bringen Sie einen Roboter mit Code zum Leben?
DESCRIPTION:Vom Aha-Moment zur Umsetzung: Sie gestalten digitale Lösungen selbst und bringen Roboter zum Leben. So begreifen Sie spielerisch, wie Digitalisierung funktioniert – und wie sie unsere Welt verändert.
LOCATION:Werk-VI-Straße 46 (Hightech-Campus), Wiener Straße 25 (Gesundheitscampus), 8605 Kapfenberg
GEO:47.45386160;15.33173550
END:VEVENT
END:VCALENDAR