BEGIN:VCALENDAR
VERSION:2.0
PRODID:-//ERT//LNF26//DE
VERSION:2.0
BEGIN:VEVENT
UID:station_6605_20260324T160000Z
DTSTAMP:20260420T070600Z
URL:https://ert.langenachtderforschung.at/station/6605
DTSTART:20260324T160000Z
DTEND:20260424T210000Z
SUMMARY:[LNF26] Code, Fly, Control: Können Sie Ihre eigene Drohne steuern?
DESCRIPTION:Sie programmieren und steuern Ihre eigene Drohne und bestimmen, was sie tun soll. Schritt für Schritt lernen Sie, wie Code in Bewegung übersetzt wird – vom einfachen Manöver bis zu cleveren Flugabläufen. Dabei erleben Sie hands-on, wie Software, Sensoren und Technik zusammenspielen und wie aus Ihren Ideen echte, fliegende Anwendungen entstehen.
LOCATION:Werk-VI-Straße 46 (Hightech-Campus), Wiener Straße 25 (Gesundheitscampus), 8605 Kapfenberg
GEO:47.45386160;15.33173550
END:VEVENT
END:VCALENDAR