BEGIN:VCALENDAR
VERSION:2.0
PRODID:-//ERT//LNF26//DE
VERSION:2.0
BEGIN:VEVENT
UID:station_6607_20260324T160000Z
DTSTAMP:20260420T070200Z
URL:https://ert.langenachtderforschung.at/station/6607
DTSTART:20260324T160000Z
DTEND:20260424T210000Z
SUMMARY:[LNF26] Bits, Bälle, Bewegung: Wie viel Physik steckt in einem digitalen Ball?
DESCRIPTION:Ballphysik, Timing und Steuerung im Vergleich: Wie sich das echte Spiel anfühlt – und wie man es im Code umsetzt.
LOCATION:Werk-VI-Straße 46 (Hightech-Campus), Wiener Straße 25 (Gesundheitscampus), 8605 Kapfenberg
GEO:47.45386160;15.33173550
END:VEVENT
END:VCALENDAR