BEGIN:VCALENDAR
VERSION:2.0
PRODID:-//ERT//LNF26//DE
VERSION:2.0
BEGIN:VEVENT
UID:station_6609_20260324T160000Z
DTSTAMP:20260420T070300Z
URL:https://ert.langenachtderforschung.at/station/6609
DTSTART:20260324T160000Z
DTEND:20260424T210000Z
SUMMARY:[LNF26] Retro Gaming-Station: Wie funktioniert Informatik zum Anfassen?
DESCRIPTION:Retro-Games spielen, IT verstehen: Entdecken Sie, wie aus Code Games entstehen.
LOCATION:Werk-VI-Straße 46 (Hightech-Campus), Wiener Straße 25 (Gesundheitscampus), 8605 Kapfenberg
GEO:47.45386160;15.33173550
END:VEVENT
END:VCALENDAR