BEGIN:VCALENDAR
VERSION:2.0
PRODID:-//ERT//LNF26//DE
VERSION:2.0
BEGIN:VEVENT
UID:station_6610_20260324T160000Z
DTSTAMP:20260420T070500Z
URL:https://ert.langenachtderforschung.at/station/6610
DTSTART:20260324T160000Z
DTEND:20260424T210000Z
SUMMARY:[LNF26] Wie funktioniert ein Computer auf Murmel-Basis?
DESCRIPTION:Verwenden Sie unterschiedliche Bauteile, um murmelbetriebene Computer zu bauen, die Muster erzeugen und logische bzw. mathematische Operationen ausführen. Tauchen Sie ein in die Welt der Algorithmen!
LOCATION:Werk-VI-Straße 46 (Hightech-Campus), Wiener Straße 25 (Gesundheitscampus), 8605 Kapfenberg
GEO:47.45386160;15.33173550
END:VEVENT
END:VCALENDAR