BEGIN:VCALENDAR
VERSION:2.0
PRODID:-//ERT//LNF26//DE
VERSION:2.0
BEGIN:VEVENT
UID:station_6613_20260324T160000Z
DTSTAMP:20260420T070400Z
URL:https://ert.langenachtderforschung.at/station/6613
DTSTART:20260324T160000Z
DTEND:20260424T210000Z
SUMMARY:[LNF26] Schaffen Sie es, den Schaltkreis zu bauen?
DESCRIPTION:Bei diesem Spiel lernen Interessierte spielerisch die Grundlagen der Elektrotechnik kennen. Mit Zahnrädern und Ketten bauen sie mechanische Modelle, die elektrische Schaltkreise simulieren, um knifflige Aufgaben zu lösen. So entdecken sie, wie Daten in Geräten verarbeitet werden und wie Technik in Computern funktioniert.
LOCATION:Werk-VI-Straße 46 (Hightech-Campus), Wiener Straße 25 (Gesundheitscampus), 8605 Kapfenberg
GEO:47.45386160;15.33173550
END:VEVENT
END:VCALENDAR