BEGIN:VCALENDAR
VERSION:2.0
PRODID:-//ERT//LNF26//DE
VERSION:2.0
BEGIN:VEVENT
UID:station_6618_20260324T160000Z
DTSTAMP:20260420T070500Z
URL:https://ert.langenachtderforschung.at/station/6618
DTSTART:20260324T160000Z
DTEND:20260424T210000Z
SUMMARY:[LNF26] Sind Sie unseren logischen Rätseln gewachsen?
DESCRIPTION:Was haben logische Rätsel mit Informatik zu tun? Können Sie die Aufgabenstellung der „Türme von Hanoi“ lösen? Sind Sie bereit für unser „Rangierrätsel“? Können Sie das Rätsel des „roten Steins“ lösen? Stellen Sie sich vielen herausfordernden Rätseln und Puzzles, die Sie in die Irre führen wollen!
LOCATION:Werk-VI-Straße 46 (Hightech-Campus), Wiener Straße 25 (Gesundheitscampus), 8605 Kapfenberg
GEO:47.45386160;15.33173550
END:VEVENT
END:VCALENDAR