BEGIN:VCALENDAR
VERSION:2.0
PRODID:-//ERT//LNF26//DE
VERSION:2.0
BEGIN:VEVENT
UID:station_6624_20260324T160000Z
DTSTAMP:20260420T070300Z
URL:https://ert.langenachtderforschung.at/station/6624
DTSTART:20260324T160000Z
DTEND:20260424T210000Z
SUMMARY:[LNF26] Wie gut kann eine Künstliche Intelligenz malen?
DESCRIPTION:Künstliche Intelligenz wird unser aller Leben und Arbeiten nachhaltig verändern. Tauchen Sie mit uns gemeinsam anhand des Beispiels der Bilderzeugung in die Welt der künstlichen Intelligenz ein und werfen Sie einen Blick hinter die Kulissen. Erwecken Sie die:den Künstler:in in sich und erzeugen Sie unvergessliche Bilder, die Sie mit nach Hause nehmen können.
LOCATION:Werk-VI-Straße 46 (Hightech-Campus), Wiener Straße 25 (Gesundheitscampus), 8605 Kapfenberg
GEO:47.45386160;15.33173550
END:VEVENT
END:VCALENDAR