BEGIN:VCALENDAR
VERSION:2.0
PRODID:-//ERT//LNF26//DE
VERSION:2.0
BEGIN:VEVENT
UID:station_6625_20260324T160000Z
DTSTAMP:20260420T070500Z
URL:https://ert.langenachtderforschung.at/station/6625
DTSTART:20260324T160000Z
DTEND:20260424T210000Z
SUMMARY:[LNF26] Wie gut erkennen Sie künstliche Intelligenz im Alltag?
DESCRIPTION:Stellen Sie sich unserem Quiz und entscheiden Sie, welche Inhalte von einem Menschen erstellt wurden und wo die Künstliche Intelligenz am Zug war. Es erwarten Sie interessante Preise!
LOCATION:Werk-VI-Straße 46 (Hightech-Campus), Wiener Straße 25 (Gesundheitscampus), 8605 Kapfenberg
GEO:47.45386160;15.33173550
END:VEVENT
END:VCALENDAR