BEGIN:VCALENDAR
VERSION:2.0
PRODID:-//ERT//LNF26//DE
VERSION:2.0
BEGIN:VEVENT
UID:station_6626_20260324T160000Z
DTSTAMP:20260420T070500Z
URL:https://ert.langenachtderforschung.at/station/6626
DTSTART:20260324T160000Z
DTEND:20260424T210000Z
SUMMARY:[LNF26] IT-Studierenden-Projekte im Fokus: Welche IT-Projekte verändern die digitale Zukunft?
DESCRIPTION:Erleben Sie die Zukunft der Technologie hautnah! Bei diesem Programmpunkt präsentieren Studierende und Dozenten der Fachhochschule ausgewählte IT-Projekte, die im Rahmen des Studiums entstanden sind.
LOCATION:Werk-VI-Straße 46 (Hightech-Campus), Wiener Straße 25 (Gesundheitscampus), 8605 Kapfenberg
GEO:47.45386160;15.33173550
END:VEVENT
END:VCALENDAR