BEGIN:VCALENDAR
VERSION:2.0
PRODID:-//ERT//LNF26//DE
VERSION:2.0
BEGIN:VEVENT
UID:station_6627_20260324T160000Z
DTSTAMP:20260420T070600Z
URL:https://ert.langenachtderforschung.at/station/6627
DTSTART:20260324T160000Z
DTEND:20260424T210000Z
SUMMARY:[LNF26] IT-Forschungsprojekte im Fokus: Welche IT-Projekte verändern die digitale Zukunft?
DESCRIPTION:Erleben Sie die Zukunft der Technologie hautnah! Bei diesem Programmpunkt präsentieren Projektverantwortliche der Fachhochschule ausgewählte IT-Forschungsprojekte.
LOCATION:Werk-VI-Straße 46 (Hightech-Campus), Wiener Straße 25 (Gesundheitscampus), 8605 Kapfenberg
GEO:47.45386160;15.33173550
END:VEVENT
END:VCALENDAR