BEGIN:VCALENDAR
VERSION:2.0
PRODID:-//ERT//LNF26//DE
VERSION:2.0
BEGIN:VEVENT
UID:station_6634_20260324T160000Z
DTSTAMP:20260420T070700Z
URL:https://ert.langenachtderforschung.at/station/6634
DTSTART:20260324T160000Z
DTEND:20260424T210000Z
SUMMARY:[LNF26] Alles dreht sich: Schaffen Sie den Parcours mit veränderter Sicht?
DESCRIPTION:Mit einer Alkoholbrille geht es durch einen Parcours. Sehen, Gleichgewicht und Orientierung fühlen sich plötzlich ganz anders an. Die Simulation zeigt eindrücklich, wie Alkohol die Wahrnehmung verändert und warum selbst einfache Aufgaben dann schwierig werden.
LOCATION:Werk-VI-Straße 46 (Hightech-Campus), Wiener Straße 25 (Gesundheitscampus), 8605 Kapfenberg
GEO:47.45386160;15.33173550
END:VEVENT
END:VCALENDAR