BEGIN:VCALENDAR
VERSION:2.0
PRODID:-//ERT//LNF26//DE
VERSION:2.0
BEGIN:VEVENT
UID:station_6647_20260324T160000Z
DTSTAMP:20260420T070300Z
URL:https://ert.langenachtderforschung.at/station/6647
DTSTART:20260324T160000Z
DTEND:20260424T210000Z
SUMMARY:[LNF26] Sonne an, Strom da: Wie wird aus Sonnenlicht elektrischer Strom?
DESCRIPTION:Hier baut ihr selbst kleine Solarmodule zusammen. Ihr erlebt, wie aus Sonnenlicht elektrische Energie entsteht und warum die Sonne eine wichtige Energiequelle der Zukunft ist. Anfassen, ausprobieren und verstehen: So fühlt sich erneuerbare Energie an.
LOCATION:Werk-VI-Straße 46 (Hightech-Campus), Wiener Straße 25 (Gesundheitscampus), 8605 Kapfenberg
GEO:47.45386160;15.33173550
END:VEVENT
END:VCALENDAR