BEGIN:VCALENDAR
VERSION:2.0
PRODID:-//ERT//LNF26//DE
VERSION:2.0
BEGIN:VEVENT
UID:station_6648_20260324T160000Z
DTSTAMP:20260420T070400Z
URL:https://ert.langenachtderforschung.at/station/6648
DTSTART:20260324T160000Z
DTEND:20260424T210000Z
SUMMARY:[LNF26] Umwelt unter der Lupe: Wie arbeitet ein Umweltlabor?
DESCRIPTION:Im Umweltlabor wird genau hingeschaut: Mit Kolorimetrie und Schnelltests untersuchen wir Wasser bzw. Abwasserproben. Farben, Licht und Messungen zeigen, was man mit bloßem Auge nicht sehen kann – und wie Umweltforschung funktioniert.
LOCATION:Werk-VI-Straße 46 (Hightech-Campus), Wiener Straße 25 (Gesundheitscampus), 8605 Kapfenberg
GEO:47.45386160;15.33173550
END:VEVENT
END:VCALENDAR