BEGIN:VCALENDAR
VERSION:2.0
PRODID:-//ERT//LNF26//DE
VERSION:2.0
BEGIN:VEVENT
UID:station_6649_20260324T160000Z
DTSTAMP:20260420T070600Z
URL:https://ert.langenachtderforschung.at/station/6649
DTSTART:20260324T160000Z
DTEND:20260424T210000Z
SUMMARY:[LNF26] Energie auf der Flucht: Können Sie Wärmeverluste sichtbar machen?
DESCRIPTION:Wo geht im Raum Energie verloren? Mit einer Wärmebildkamera macht ihr unsichtbare Energieverluste sichtbar. Entdeckt warme und kalte Stellen, findet typische Energiefresser wie Wärmeverlust, Standby-Geräte oder ineffiziente Technik und ordnet sie richtig ein. So seht ihr, wo Energie unnötig verschwindet – und was man dagegen tun kann.
LOCATION:Werk-VI-Straße 46 (Hightech-Campus), Wiener Straße 25 (Gesundheitscampus), 8605 Kapfenberg
GEO:47.45386160;15.33173550
END:VEVENT
END:VCALENDAR