BEGIN:VCALENDAR
VERSION:2.0
PRODID:-//ERT//LNF26//DE
VERSION:2.0
BEGIN:VEVENT
UID:station_6650_20260324T160000Z
DTSTAMP:20260420T070600Z
URL:https://ert.langenachtderforschung.at/station/6650
DTSTART:20260324T160000Z
DTEND:20260424T210000Z
SUMMARY:[LNF26] Care Lab: Was braucht der Mensch, um gesund zu bleiben?
DESCRIPTION:Schlüpfen Sie in die Rolle einer Lebensretterin oder eines Lebensretters. Entdecken Sie, wie der menschliche Körper aufgebaut ist. Spüren Sie selbst, wie es sich anfühlt, alt zu sein, und probieren Sie aus, was ganzheitlich zu Gesundheit und Wohlbefinden beiträgt. Testen, erleben und verstehen Sie Pflege hautnah!
LOCATION:Werk-VI-Straße 46 (Hightech-Campus), Wiener Straße 25 (Gesundheitscampus), 8605 Kapfenberg
GEO:47.45386160;15.33173550
END:VEVENT
END:VCALENDAR