BEGIN:VCALENDAR
VERSION:2.0
PRODID:-//ERT//LNF26//DE
VERSION:2.0
BEGIN:VEVENT
UID:station_6651_20260324T160000Z
DTSTAMP:20260423T085100Z
URL:https://ert.langenachtderforschung.at/station/6651
DTSTART:20260324T160000Z
DTEND:20260424T210000Z
SUMMARY:[LNF26] Material-Check: Restaurierung erleben – von der Leinwand bis zum Pigment
DESCRIPTION:Unsere Restaurator*innen geben im Workshop faszinierende Einblicke in historische Techniken und moderne Erhaltung. Erfahren Sie anhand von Materialproben und Beispielen, wie wir Kunstwerke für die Zukunft bewahren – ein spannendes Erlebnis für Groß und Klein. Eintritt frei!
LOCATION:Krajnc-Straße 1, 6060 Hall in Tirol
GEO:47.28668962;11.51527584
END:VEVENT
END:VCALENDAR