BEGIN:VCALENDAR
VERSION:2.0
PRODID:-//ERT//LNF26//DE
VERSION:2.0
BEGIN:VEVENT
UID:station_6653_20260324T160000Z
DTSTAMP:20260420T070700Z
URL:https://ert.langenachtderforschung.at/station/6653
DTSTART:20260324T160000Z
DTEND:20260424T210000Z
SUMMARY:[LNF26] Technik, Kunst, Umwelt: Wie baue ich mein eigenes Sonnenglas?
DESCRIPTION:Nutzen Sie die Kraft der Sonne und entwickeln Sie mit 3D-Druck, Elektronik und Kreativität Ihre eigene Solarlampe im Glas. Aus einem alten Einmachglas, einer Solarzelle und etwas Geschick entsteht Ihr ganz persönliches, nachhaltiges Sonnenlicht für Garten oder Zimmer. Gestalten Sie Ihr Design individuell – jedes Sonnenglas wird so zum kleinen Kunstwerk mit großer Wirkung!
LOCATION:Werk-VI-Straße 46 (Hightech-Campus), Wiener Straße 25 (Gesundheitscampus), 8605 Kapfenberg
GEO:47.45386160;15.33173550
END:VEVENT
END:VCALENDAR