BEGIN:VCALENDAR
VERSION:2.0
PRODID:-//ERT//LNF26//DE
VERSION:2.0
BEGIN:VEVENT
UID:station_6684_20260324T160000Z
DTSTAMP:20260420T003100Z
URL:https://ert.langenachtderforschung.at/station/6684
DTSTART:20260324T160000Z
DTEND:20260424T200000Z
SUMMARY:[LNF26] Wie erleben wir unseren Alltag – und wie erleben ihn andere?
DESCRIPTION:Hier dreht sich alles um verschiedene Lebenswelten, Identitäten, Talente, Sprachen uvm. Unser Diversitätsparcours macht Vielfalt erlebbar: Wie verändert sich der Blick auf den Alltag, wenn ich eine andere Perspektive einnehme? Wo begegnen uns gesellschaftliche Hindernisse im Alltag? Wie können wir sie überwinden? Probieren, diskutieren und eigene Ideen für eine gerechtere und inklusivere Gesellschaft entwickeln.
LOCATION:Hasnerplatz 12, 8010 Graz
GEO:47.08250200;15.43363926
END:VEVENT
END:VCALENDAR