BEGIN:VCALENDAR
VERSION:2.0
PRODID:-//ERT//LNF26//DE
VERSION:2.0
BEGIN:VEVENT
UID:station_6685_20260324T160000Z
DTSTAMP:20260420T020400Z
URL:https://ert.langenachtderforschung.at/station/6685
DTSTART:20260324T160000Z
DTEND:20260424T200000Z
SUMMARY:[LNF26] Stoffe. Holz. Papier – Welches Werkzeug verwende ich wofür? Auseinandersetzung mit Grundkompetenzen in Technik und Design
DESCRIPTION:Was macht die Hand im Kopf? \nAuseinandersetzung mit Grundkompetenzen in Technik und Design. \nArbeiten wie ein Designer, eine Designerin oder ein Künstler, eine Künstlerin. Erproben und Experimentieren Sie mit Stoffen, Schnüren, Hölzern, Papieren, etc. und verwandeln Sie diese Materialien zu individuellen Accessoires oder zu kreativen Kunstwerken.\nKinderUniGraz
LOCATION:Hasnerplatz 12, 8010 Graz
GEO:47.08250200;15.43363926
END:VEVENT
END:VCALENDAR