BEGIN:VCALENDAR
VERSION:2.0
PRODID:-//ERT//LNF26//DE
VERSION:2.0
BEGIN:VEVENT
UID:station_6686_20260424T160000Z
DTSTAMP:20260420T003300Z
URL:https://ert.langenachtderforschung.at/station/6686
DTSTART:20260424T160000Z
DTEND:20260424T162000Z
SUMMARY:[LNF26] MINT Future Lab: Mission Zukunft – Schaffst du es, den Code zu knacken? KinderUniGraz
DESCRIPTION:Im MINT Future Lab erwartet Sie ein spannender Escape Room. In fünf aufeinander aufbauenden Rätseln aus Mathematik, Informatik, Naturwissenschaften und Technik müssen Hinweise entschlüsselt, Anweisungen genau gelesen und logisch kombiniert werden. Nur wer den richtigen Zahlencode findet, kann das System aktivieren und damit die Zukunft retten.
LOCATION:Hasnerplatz 12, 8010 Graz
GEO:47.08250200;15.43363926
END:VEVENT
END:VCALENDAR