BEGIN:VCALENDAR
VERSION:2.0
PRODID:-//ERT//LNF26//DE
VERSION:2.0
BEGIN:VEVENT
UID:station_6687_20260424T160000Z
DTSTAMP:20260420T003300Z
URL:https://ert.langenachtderforschung.at/station/6687
DTSTART:20260424T160000Z
DTEND:20260424T162500Z
SUMMARY:[LNF26] Welche Nährstoffe stecken in Lebensmitteln?
DESCRIPTION:Entdecken Sie bei unserer Mitmachstation Nährstoffe in Lebensmitteln. Unsere Spiele beinhalten Fragen zu Nährstoffen, wie Proteine, Kohlenhydrate, Fette, Vitamine und Mineralstoffe. Entscheiden Sie sich selbst für unterschiedlich schwere Fragen und erweitern Sie spielerisch Ihr Wissen zu Nährstoffen in Lebensmitteln!\nKinderUniGraz
LOCATION:Hasnerplatz 12, 8010 Graz
GEO:47.08250200;15.43363926
END:VEVENT
END:VCALENDAR