BEGIN:VCALENDAR
VERSION:2.0
PRODID:-//ERT//LNF26//DE
VERSION:2.0
BEGIN:VEVENT
UID:station_6691_20260324T160000Z
DTSTAMP:20260421T004800Z
URL:https://ert.langenachtderforschung.at/station/6691
DTSTART:20260324T160000Z
DTEND:20260424T190000Z
SUMMARY:[LNF26] Welche digitalen Technologien gibt es im Makers‘ Lab?
DESCRIPTION:Digitale Präzisionsfertigungsmethoden wie 3D-Drucker, Lasercutter oder CNC spielen in zeitgemäßen Arbeitsprozessen in der Werkstätte zusammen. Im Rahmen der LNF 26 zeigen wir, wie wir speziell gestaltete Lehr-Lerninstallationen benutzen, um Workshops rund um das Thema digitale Produktionstechnologien zielgruppenorientiert etwa für Schüler:innen, Studierende aber auch Unternehmen anzubieten.
LOCATION:Campus-Platz 1, 3100 St. Pölten
GEO:48.21313058;15.63179719
END:VEVENT
END:VCALENDAR