BEGIN:VCALENDAR
VERSION:2.0
PRODID:-//ERT//LNF26//DE
VERSION:2.0
BEGIN:VEVENT
UID:station_6696_20260324T160000Z
DTSTAMP:20260420T152500Z
URL:https://ert.langenachtderforschung.at/station/6696
DTSTART:20260324T160000Z
DTEND:20260424T210000Z
SUMMARY:[LNF26] Wie macht man Krebszellen sichtbar?
DESCRIPTION:Zwischen vielen gesunden Zellen verstecken sich Tumorzellen. Doch wie erkennt man sie eindeutig?
LOCATION:Zimmermannplatz 10, 1090 Wien
GEO:48.21666685;16.34408891
END:VEVENT
END:VCALENDAR