BEGIN:VCALENDAR
VERSION:2.0
PRODID:-//ERT//LNF26//DE
VERSION:2.0
BEGIN:VEVENT
UID:station_6697_20260324T160000Z
DTSTAMP:20260419T130900Z
URL:https://ert.langenachtderforschung.at/station/6697
DTSTART:20260324T160000Z
DTEND:20260424T210000Z
SUMMARY:[LNF26] Mythen und Fakten übers gesunde Altern - wie werde ich zum SuperAger?
DESCRIPTION:Wir alle wollen gesund alt werden und Demenzen vermeiden, aber was sollte man hierfür tun? Wieviel an Demenzrisiko steckt in unseren Genen und muss man perfekt leben, um ein 'SuperAger' zu werden? In einem interaktiven Quiz erhalten Teilnehmende zusammen mit Altersforschungsexpert:innen einen Einblick, was die aktuelle Forschung empfiehlt, um möglichst lange kognitiv fit zu bleiben und das Demenzrisiko zu senken.
LOCATION:Universitätsstraße 5-7, 6020 Innsbruck
GEO:47.26899430;11.39726830
END:VEVENT
END:VCALENDAR