BEGIN:VCALENDAR
VERSION:2.0
PRODID:-//ERT//LNF26//DE
VERSION:2.0
BEGIN:VEVENT
UID:station_6700_20260324T160000Z
DTSTAMP:20260420T152200Z
URL:https://ert.langenachtderforschung.at/station/6700
DTSTART:20260324T160000Z
DTEND:20260424T210000Z
SUMMARY:[LNF26] Mensch oder Maschine – wer erkennt Krebszellen besser?
DESCRIPTION:Künstliche Intelligenz hilft heute auch in der Krebsdiagnostik. Doch wie gut ist sie wirklich?
LOCATION:Zimmermannplatz 10, 1090 Wien
GEO:48.21666685;16.34408891
END:VEVENT
END:VCALENDAR