BEGIN:VCALENDAR
VERSION:2.0
PRODID:-//ERT//LNF26//DE
VERSION:2.0
BEGIN:VEVENT
UID:station_6702_20260324T160000Z
DTSTAMP:20260420T152000Z
URL:https://ert.langenachtderforschung.at/station/6702
DTSTART:20260324T160000Z
DTEND:20260424T210000Z
SUMMARY:[LNF26] Was kann eine Blutprobe über Krebs verraten?
DESCRIPTION:Bei der sogenannten Liquid Biopsy wird nach Spuren von Tumor DNA im Blut gesucht. Wie genau funktioniert diese Methode?
LOCATION:Zimmermannplatz 10, 1090 Wien
GEO:48.21666685;16.34408891
END:VEVENT
END:VCALENDAR