BEGIN:VCALENDAR
VERSION:2.0
PRODID:-//ERT//LNF26//DE
VERSION:2.0
BEGIN:VEVENT
UID:station_6704_20260324T160000Z
DTSTAMP:20260420T152300Z
URL:https://ert.langenachtderforschung.at/station/6704
DTSTART:20260324T160000Z
DTEND:20260424T210000Z
SUMMARY:[LNF26] Wie spürt man versteckte Krebszellen auf?
DESCRIPTION:An dieser Station erfahren Sie, wie Forschende selbst kleinste Mengen von Krebszellen aufspüren und warum das für die Therapie von Kindern entscheidend ist.
LOCATION:Zimmermannplatz 10, 1090 Wien
GEO:48.21666685;16.34408891
END:VEVENT
END:VCALENDAR