BEGIN:VCALENDAR
VERSION:2.0
PRODID:-//ERT//LNF26//DE
VERSION:2.0
BEGIN:VEVENT
UID:station_6715_20260324T160000Z
DTSTAMP:20260420T152400Z
URL:https://ert.langenachtderforschung.at/station/6715
DTSTART:20260324T160000Z
DTEND:20260424T210000Z
SUMMARY:[LNF26] Wie helfen Modelle dabei, Krebs besser zu verstehen?
DESCRIPTION:Bauen Sie Modelle von Kinderkrebs, sehen Sie, wie Veränderungen Zellen beeinflussen, und entdecken Sie in Daten neue Muster.
LOCATION:Zimmermannplatz 10, 1090 Wien
GEO:48.21666685;16.34408891
END:VEVENT
END:VCALENDAR