BEGIN:VCALENDAR
VERSION:2.0
PRODID:-//ERT//LNF26//DE
VERSION:2.0
BEGIN:VEVENT
UID:station_6717_20260324T160000Z
DTSTAMP:20260420T152100Z
URL:https://ert.langenachtderforschung.at/station/6717
DTSTART:20260324T160000Z
DTEND:20260424T210000Z
SUMMARY:[LNF26] Warum hilft eine kleine Fischlarve in der Krebsforschung?
DESCRIPTION:Erfahren Sie, wie Zebrafischmodelle helfen, Krebs besser zu verstehen.
LOCATION:Zimmermannplatz 10, 1090 Wien
GEO:48.21666685;16.34408891
END:VEVENT
END:VCALENDAR