BEGIN:VCALENDAR
VERSION:2.0
PRODID:-//ERT//LNF26//DE
VERSION:2.0
BEGIN:VEVENT
UID:station_6724_20260324T160000Z
DTSTAMP:20260420T020500Z
URL:https://ert.langenachtderforschung.at/station/6724
DTSTART:20260324T160000Z
DTEND:20260424T210000Z
SUMMARY:[LNF26] Wie kannst du die Zukunft riechen? Natürlich mit Holz!
DESCRIPTION:Die Zukunft riecht nach Holz: nach Natur, Innovation und Klimaschutz! Erfahre, wie auch Laubhölzer zu neuen Baustoffen werden und schaue mit dem AR-Holz-Würfel ins steirische Holz und seine Zukunft! Lerne mehr darüber, wie geniales Bauen und Ernten - vollautomatisch - funktioniert. Erlebe die natürliche Genialität von Holz und Wald an der Station von proHolz Steiermark und dem Holzcluster Steiermark!
LOCATION:Eggenberger Allee 11+13, Eckertstraße 7a+30i, 8020 Graz
GEO:47.06940355;15.40670826
END:VEVENT
END:VCALENDAR