BEGIN:VCALENDAR
VERSION:2.0
PRODID:-//ERT//LNF26//DE
VERSION:2.0
BEGIN:VEVENT
UID:station_6728_20260324T160000Z
DTSTAMP:20260420T151900Z
URL:https://ert.langenachtderforschung.at/station/6728
DTSTART:20260324T160000Z
DTEND:20260424T210000Z
SUMMARY:[LNF26] Wie werden neue Therapien auf den Prüfstand gestellt?
DESCRIPTION:An dieser Station erfahren Sie, wie weltweite Studien ablaufen, warum sie so wichtig sind und welche Fortschritte dadurch bereits erreicht wurden.
LOCATION:Zimmermannplatz 10, 1090 Wien
GEO:48.21666685;16.34408891
END:VEVENT
END:VCALENDAR