BEGIN:VCALENDAR
VERSION:2.0
PRODID:-//ERT//LNF26//DE
VERSION:2.0
BEGIN:VEVENT
UID:station_6731_20260324T160000Z
DTSTAMP:20260420T152000Z
URL:https://ert.langenachtderforschung.at/station/6731
DTSTART:20260324T160000Z
DTEND:20260424T210000Z
SUMMARY:[LNF26] Welche Berufe gibt es in der Kinderkrebsforschung?
DESCRIPTION:Kommen Sie vorbei und stellen Sie Ihre Fragen rund um Ausbildung, Arbeitsfelder und Einstiegsmöglichkeiten.
LOCATION:Zimmermannplatz 10, 1090 Wien
GEO:48.21666685;16.34408891
END:VEVENT
END:VCALENDAR