BEGIN:VCALENDAR
VERSION:2.0
PRODID:-//ERT//LNF26//DE
VERSION:2.0
BEGIN:VEVENT
UID:station_6732_20260324T160000Z
DTSTAMP:20260420T033600Z
URL:https://ert.langenachtderforschung.at/station/6732
DTSTART:20260324T160000Z
DTEND:20260424T210000Z
SUMMARY:[LNF26] Krebs oder nicht? Mit digitaler Pathologie erkennen
DESCRIPTION:Eine schnelle und präzise Diagnose ist entscheidend – besonders bei Krebserkrankungen. An unserer Station „DigiPath“ bekommen Sie einen Einblick in die digitale Pathologie: Sie lernen, wie sich gesundes von krankem Gewebe unterscheidet, Sie testen digitale Mikroskopie selbst und sehen live, wie künstliche Intelligenz Patholog:innen bei der Erkennung von Krebs unterstützen kann.
LOCATION:Neue Stiftingtalstraße 6 (Aula und Hörsäle im Erdgeschoss), 8010 Graz
GEO:47.08049167;15.46980679
END:VEVENT
END:VCALENDAR