BEGIN:VCALENDAR
VERSION:2.0
PRODID:-//ERT//LNF26//DE
VERSION:2.0
BEGIN:VEVENT
UID:station_6733_20260324T160000Z
DTSTAMP:20260420T003000Z
URL:https://ert.langenachtderforschung.at/station/6733
DTSTART:20260324T160000Z
DTEND:20260424T200000Z
SUMMARY:[LNF26] Cyber-Angriff auf die Achterbahn: Wie schützen wir unsere digitale Welt?
DESCRIPTION:In unserer digitalen Welt ist der Schutz vor Cyberangriffen eine Notwendigkeit. Industrielle Cybersicherheit bewahrt kritische Systeme – wie Stromversorgung und Produktion – vor finanziellen Schäden und ernsthaften Sicherheitsrisiken für Menschen und Umwelt. Sie ist der Schutzschild, der dafür sorgt, dass unser Alltag funktioniert, Daten sicher sind und das Vertrauen in unsere technologischen Systeme erhalten bleibt.
LOCATION:Inffeldgasse 33 EBS-Gebäude, Erdgeschoss, 8010 Graz
GEO:47.05720544;15.45949638
END:VEVENT
END:VCALENDAR