BEGIN:VCALENDAR
VERSION:2.0
PRODID:-//ERT//LNF26//DE
VERSION:2.0
BEGIN:VEVENT
UID:station_6735_20260324T160000Z
DTSTAMP:20260422T075600Z
URL:https://ert.langenachtderforschung.at/station/6735
DTSTART:20260324T160000Z
DTEND:20260424T210000Z
SUMMARY:[LNF26] Highway2Cell - Zellen und Moleküle zum Greifen nah: 4. Und wann kommt hier der Computer ins Spiel?
DESCRIPTION:In diesem Experiment simulieren wir ein großes Datenset mit Hilfe einer Sammlung von bunten, kleinen Gegenständen und schauen uns an, wie dieses unter Anwendung der Methode "Dimensionalitätsreduktion" analysieren können.
LOCATION:Währinger Gürtel  18-20, 1090 Wien
GEO:48.21973561;16.34864900
END:VEVENT
END:VCALENDAR