BEGIN:VCALENDAR
VERSION:2.0
PRODID:-//ERT//LNF26//DE
VERSION:2.0
BEGIN:VEVENT
UID:station_6736_20260324T160000Z
DTSTAMP:20260422T075300Z
URL:https://ert.langenachtderforschung.at/station/6736
DTSTART:20260324T160000Z
DTEND:20260424T210000Z
SUMMARY:[LNF26] Highway2Cell - Zellen und Moleküle zum Greifen nah:  1. Wie schauen sich Forscher:innen Zellen an?
DESCRIPTION:In dieser Station werden wir mit modernsten Geräten aufgenommene Mikroskopie-Bilder von Geweben vorstellen und verglichen. So finden Forscher:innen etwa Krebszellen oder Entzündungen im Körper.
LOCATION:Währinger Gürtel  18-20, 1090 Wien
GEO:48.21973561;16.34864900
END:VEVENT
END:VCALENDAR