BEGIN:VCALENDAR
VERSION:2.0
PRODID:-//ERT//LNF26//DE
VERSION:2.0
BEGIN:VEVENT
UID:station_6737_20260324T160000Z
DTSTAMP:20260422T075300Z
URL:https://ert.langenachtderforschung.at/station/6737
DTSTART:20260324T160000Z
DTEND:20260424T210000Z
SUMMARY:[LNF26] Highway2Cell - Zellen und Moleküle zum Greifen nah: 3. Was sind Gene und wie lesen wir sie?
DESCRIPTION:In dieser Station werden wir Gene sequenzieren und unsere Lieblingsgene auffädeln zum mit nach Hause nehmen.
LOCATION:Währinger Gürtel  18-20, 1090 Wien
GEO:48.21973561;16.34864900
END:VEVENT
END:VCALENDAR