BEGIN:VCALENDAR
VERSION:2.0
PRODID:-//ERT//LNF26//DE
VERSION:2.0
BEGIN:VEVENT
UID:station_6738_20260324T160000Z
DTSTAMP:20260422T075300Z
URL:https://ert.langenachtderforschung.at/station/6738
DTSTART:20260324T160000Z
DTEND:20260424T210000Z
SUMMARY:[LNF26] Highway2Cell - Zellen und Moleküle zum Greifen nah: 2. Wie werden Zellen sortiert (und warum)?
DESCRIPTION:In dieser Station werden wir ein Zellsortierungsexperiment simulieren, wie es z.B. zur Bestimmung der zellulären Zusammensetzung von Blutproben im Labor durchgeführt wird. Unsere Leukozyten und Granulozyten werden in diesem Experiment durch essbare "Zellen" ersetzt.
LOCATION:Währinger Gürtel  18-20, 1090 Wien
GEO:48.21973561;16.34864900
END:VEVENT
END:VCALENDAR