BEGIN:VCALENDAR
VERSION:2.0
PRODID:-//ERT//LNF26//DE
VERSION:2.0
BEGIN:VEVENT
UID:station_6739_20260324T160000Z
DTSTAMP:20260420T033800Z
URL:https://ert.langenachtderforschung.at/station/6739
DTSTART:20260324T160000Z
DTEND:20260424T210000Z
SUMMARY:[LNF26] Liquid Biopsy: Was verrät ein Blick ins Blut über ein längeres, gesünderes Leben?
DESCRIPTION:Bei unserer Station lernen Sie, wie Krankheiten mithilfe der Liquid Biopsy über eine einfache Blutprobe erkannt werden können. Wir zeigen und erklären unseren Arbeitsalltag im Onkoservice – von der Probe bis zum Ergebnis. Außerdem gibt es für Kinder ein spezielles Mitmachprogramm, bei dem die DNA als Bauplan und Grundlage unseres Lebens im Mittelpunkt steht. Ein spannender Einblick in Forschung und Healthy Aging.
LOCATION:Neue Stiftingtalstraße 6 (Aula und Hörsäle im Erdgeschoss), 8010 Graz
GEO:47.08049167;15.46980679
END:VEVENT
END:VCALENDAR