BEGIN:VCALENDAR
VERSION:2.0
PRODID:-//ERT//LNF26//DE
VERSION:2.0
BEGIN:VEVENT
UID:station_6741_20260424T160000Z
DTSTAMP:20260420T003200Z
URL:https://ert.langenachtderforschung.at/station/6741
DTSTART:20260424T160000Z
DTEND:20260424T170000Z
SUMMARY:[LNF26] Wie machen Chips, Sensoren &amp; smarte Systeme unsere Welt sicher?
DESCRIPTION:Mikroelektronik hautnah erleben – Zukunft zum Angreifen.\n\nBei der Langen Nacht der Forschung 2026 wird das EBS-Gebäude in der Inffeldgasse 33 zum Hotspot für alle, die wissen wollen, wie unsere digitale Welt wirklich funktioniert.
LOCATION:Inffeldgasse 33 EBS-Gebäude, Erdgeschoss, 8010 Graz
GEO:47.05720544;15.45949638
END:VEVENT
END:VCALENDAR