BEGIN:VCALENDAR
VERSION:2.0
PRODID:-//ERT//LNF26//DE
VERSION:2.0
BEGIN:VEVENT
UID:station_6745_20260324T160000Z
DTSTAMP:20260420T033600Z
URL:https://ert.langenachtderforschung.at/station/6745
DTSTART:20260324T160000Z
DTEND:20260424T210000Z
SUMMARY:[LNF26] Was geht in mir vor? Psychotherapie bei Gefühlen und Beziehungen
DESCRIPTION:Entdecken Sie, wie Psychotherapie hilft, Gefühle und Beziehungen besser zu verstehen. Sie lernen symbolisches Arbeiten mit Figuren kennen und erleben, wie innere Handlungsspielräume wachsen können. Außerdem sehen Sie, wie sich ein Beratungsgespräch von einem KI Chat unterscheidet – ein spannender Blick auf mentale Gesundheit und Healthy Aging.
LOCATION:Neue Stiftingtalstraße 6 (Aula und Hörsäle im Erdgeschoss), 8010 Graz
GEO:47.08049167;15.46980679
END:VEVENT
END:VCALENDAR