BEGIN:VCALENDAR
VERSION:2.0
PRODID:-//ERT//LNF26//DE
VERSION:2.0
BEGIN:VEVENT
UID:station_6746_20260324T160000Z
DTSTAMP:20260420T033700Z
URL:https://ert.langenachtderforschung.at/station/6746
DTSTART:20260324T160000Z
DTEND:20260424T210000Z
SUMMARY:[LNF26] Wie kommt man gesund durchs Studium?
DESCRIPTION:Finden Sie heraus, wie Sie Ihr Studium gesünder gestalten können. Sie lernen einfache Techniken für Entspannung, Stressmanagement, effizientes Lernen und mehr Balance im Alltag kennen. Von der Pomodoro-Methode über Achtsamkeit bis zu Selbstfürsorge Ritualen – ein hilfreicher Einblick, der auch langfristig zu Healthy Aging beiträgt.
LOCATION:Neue Stiftingtalstraße 6 (Aula und Hörsäle im Erdgeschoss), 8010 Graz
GEO:47.08049167;15.46980679
END:VEVENT
END:VCALENDAR