BEGIN:VCALENDAR
VERSION:2.0
PRODID:-//ERT//LNF26//DE
VERSION:2.0
BEGIN:VEVENT
UID:station_675_20260424T180000Z
DTSTAMP:20260420T034000Z
URL:https://ert.langenachtderforschung.at/station/675
DTSTART:20260424T180000Z
DTEND:20260424T190000Z
SUMMARY:[LNF26] Wie kann ich ein Fahrzeug vollständig testen, ohne eine einzige Straße zu befahren?
DESCRIPTION:Das Powertrain Competence Center in Graz bietet modernste Prüfstände, um Antriebsstränge, E‑Motoren und Batterien unter kontrollierten Bedingungen zu testen. Reale Fahrsituationen werden im Labor präzise simuliert, inklusive Extremszenarien. So lassen sich Schwachstellen früh erkennen und neue Technologien für Elektro‑ und Hybridfahrzeuge zur Serienreife entwickeln.
LOCATION:Hans-List-Platz 1, 8020 Graz
GEO:47.07802281;15.42457670
END:VEVENT
END:VCALENDAR