BEGIN:VCALENDAR
VERSION:2.0
PRODID:-//ERT//LNF26//DE
VERSION:2.0
BEGIN:VEVENT
UID:station_6809_20260324T160000Z
DTSTAMP:20260420T003000Z
URL:https://ert.langenachtderforschung.at/station/6809
DTSTART:20260324T160000Z
DTEND:20260424T204500Z
SUMMARY:[LNF26] skills.lab Cube by Anton Paar – Wie verbindet ein 16‑m²‑Cube Fußball mit modernster Technologie?
DESCRIPTION:360°-Fußball-Action auf 16 m²: Der skills.lab Cube bringt interaktive Skill Games und Stadionatmosphäre zur Langen Nacht der Forschung. Hier wird Reaktion, Präzision und Schnelligkeit getestet, man kann sich mit anderen Besucherinnen und Besuchern challengen und sich mit dem Tages-Highscore einen Preis sichern. Mitmachen können alle – unabhängig vom Alter oder Fußballerfahrung.
LOCATION:Anton-Paar-Straße 20, 8054 Graz
GEO:47.03112409;15.40448964
END:VEVENT
END:VCALENDAR