BEGIN:VCALENDAR
VERSION:2.0
PRODID:-//ERT//LNF26//DE
VERSION:2.0
BEGIN:VEVENT
UID:station_6895_20260324T160000Z
DTSTAMP:20260420T003100Z
URL:https://ert.langenachtderforschung.at/station/6895
DTSTART:20260324T160000Z
DTEND:20260424T170000Z
SUMMARY:[LNF26] Was lerne ich von Finanzbildungs-Apps?
DESCRIPTION:Finanzbildung zum Ausprobieren – interaktiv & digital: An unserer interaktiven Station mit Touchscreen-Terminal können Sie zentrale Finanzthemen praxisnah und eigenständig entdecken. Digitale Simulationen und realitätsnahe Szenarien machen wirtschaftliche Zusammenhänge verständlich, greifbar und unmittelbar erlebbar.
LOCATION:Eggenberger Allee 11+13, Eckertstraße 7a+30i, 8020 Graz
GEO:47.06940355;15.40670826
END:VEVENT
END:VCALENDAR