BEGIN:VCALENDAR
VERSION:2.0
PRODID:-//ERT//LNF26//DE
VERSION:2.0
BEGIN:VEVENT
UID:station_6924_20260324T160000Z
DTSTAMP:20260419T211000Z
URL:https://ert.langenachtderforschung.at/station/6924
DTSTART:20260324T160000Z
DTEND:20260424T200000Z
SUMMARY:[LNF26] Energie von gestern - Inspiration für morgen?
DESCRIPTION:Dieser über 100 Jahre alte Wasserkraftgenerator zeigt, dass echte Innovation Bestand hat. Er versorgte 80 Jahre lang einen Betrieb mit elektrischem Strom. Seine robuste Technik und die damals wegweisende Ingenieurskunst legten mitunter Grundlagen, auf denen moderne Generatoren noch heute aufbauen. Er steht exemplarisch für nachhaltige Energieerzeugung und dafür, wie frühere Entwicklungen unsere Zukunft inspirieren.
LOCATION:Roseggergasse 12 Tor 11, 8160 Weiz
GEO:47.22257569;15.62101316
END:VEVENT
END:VCALENDAR