BEGIN:VCALENDAR
VERSION:2.0
PRODID:-//ERT//LNF26//DE
VERSION:2.0
BEGIN:VEVENT
UID:station_6932_20260324T160000Z
DTSTAMP:20260422T173900Z
URL:https://ert.langenachtderforschung.at/station/6932
DTSTART:20260324T160000Z
DTEND:20260424T210000Z
SUMMARY:[LNF26] Wie funktioniert die Luftgütemessung des Umweltbundesamts bei der Biologischen Station Illmitz?
DESCRIPTION:Das Umweltbundesamt betreibt insgesamt sieben Luftgütemessstellen zur Erhebung der großräumigen Hintergrundbelastung in Österreich. Der Messstandort bei der Biologischen Station in Illmitz besteht bereits seit 1978 und erfasst gas- und partikelförmige Luftschadstoffe und meteorologische Größen. Sehen Sie selbst vor Ort im Messraum, wie die Messanlagen funktionieren und welche wichtigen Ergebnisse erhalten werden.
LOCATION:Seevorgelände 1, 7142 Illmitz
GEO:47.76906806;16.76626861
END:VEVENT
END:VCALENDAR