BEGIN:VCALENDAR
VERSION:2.0
PRODID:-//ERT//LNF26//DE
VERSION:2.0
BEGIN:VEVENT
UID:station_6987_20260324T160000Z
DTSTAMP:20260420T070400Z
URL:https://ert.langenachtderforschung.at/station/6987
DTSTART:20260324T160000Z
DTEND:20260424T210000Z
SUMMARY:[LNF26] Pulverbeschichtung - Wow, wer hat das gemacht?
DESCRIPTION:Pulverbeschichtung und Oberflächenveredelung klingen vielleicht nach Technikbuch – sind in Wirklichkeit aber echte Alltagshelden. Darum sollten Sie bei unserem Stand vorbeikommen: Weil man hier nicht nur schauen, sondern staunen kann. Wir zeigen, wie aus einem unscheinbaren Teil ein perfekt beschichtetes Werkstück wird. Farben, Oberflächen, Effekte – von dezent bis „Wow, wer hat das gemacht?“
LOCATION:Werk-VI-Straße 46 (Hightech-Campus), Wiener Straße 25 (Gesundheitscampus), 8605 Kapfenberg
GEO:47.45386160;15.33173550
END:VEVENT
END:VCALENDAR