BEGIN:VCALENDAR
VERSION:2.0
PRODID:-//ERT//LNF26//DE
VERSION:2.0
BEGIN:VEVENT
UID:station_6992_20260324T160000Z
DTSTAMP:20260419T131300Z
URL:https://ert.langenachtderforschung.at/station/6992
DTSTART:20260324T160000Z
DTEND:20260424T210000Z
SUMMARY:[LNF26] Wie sorgen wir in Europa füreinander – und wie wollen wir im Alter leben?
DESCRIPTION:Entdecken Sie, wie in Europa für ältere Menschen gesorgt wird: Auf einer großen begehbaren Care-Landschaft ordnen Sie alltägliche Aufgaben verschiedenen Unterstützungsbereichen zu, erleben die tägliche Zeitbelastung durch unsere Zeitbälle und wählen ein Zukunftsszenario. Soziologie zum Mitmachen für die ganze Familie.
LOCATION:Innrain 52, 6020 Innsbruck
GEO:47.26306350;11.38418912
END:VEVENT
END:VCALENDAR